BEGIN:VCALENDAR
VERSION:2.0
PRODID:-//LLP Site - ECPv6.15.20//NONSGML v1.0//EN
CALSCALE:GREGORIAN
METHOD:PUBLISH
X-WR-CALNAME:LLP Site
X-ORIGINAL-URL:https://pkf-francisclark.co.uk
X-WR-CALDESC:Events for LLP Site
REFRESH-INTERVAL;VALUE=DURATION:PT1H
X-Robots-Tag:noindex
X-PUBLISHED-TTL:PT1H
BEGIN:VTIMEZONE
TZID:UTC
BEGIN:STANDARD
TZOFFSETFROM:+0000
TZOFFSETTO:+0000
TZNAME:UTC
DTSTART:20250101T000000
END:STANDARD
END:VTIMEZONE
BEGIN:VEVENT
DTSTART;TZID=UTC:20260224T180000
DTEND;TZID=UTC:20260224T210000
DTSTAMP:20260424T210133
CREATED:20260128T152344Z
LAST-MODIFIED:20260129T083420Z
UID:10460-1771956000-1771966800@pkf-francisclark.co.uk
SUMMARY:Resilience\, succession and planning for the future: reﬂecting and moving forward in agriculture in 2026
DESCRIPTION:Join us for an exclusive evening briefing designed for decision-makers in the agricultural sector\, as we take a breath after a demanding year and look ahead to the opportunities and challenges on\nthe horizon. \nThe evening will include expert insights from PKF Francis Clark\, Stephens Scown\, and Carter Jonas on topics such as:\n– Reflections on recent Budget announcements\n– Inheritance Tax (IHT)\n– Agricultural and general property market update\n– Succession planning and wills\n– Pre- and post-nuptial agreements\n– Inheritance and Trust disputes and how to avoid them\n– An open Q&A session with our panel of experts \nEvent date: Tuesday 24 February\nVenue: Rumwell Farm Shop\, Rumwell\, Taunton\, TA4 1EJ\nTime: 6pm – 9pm \nWe look forward to welcoming you for an insightful and forward-thinking evening. \nAny questions\, please contact:\nJo Force events@stephens-scown.co.uk\nor Daisy Cardwell daisy.cardwell@pkf-francisclark.co.uk
URL:https://pkf-francisclark.co.uk/event/resilience-succession-and-planning-for-the-future-re%ef%ac%82ecting-and-moving-forward-in-agriculture-in-2026/
LOCATION:Rumwell Farm Shop\, Rumwell\, Taunton\, Somerset\, TA4 1EJ\, United Kingdom
END:VEVENT
END:VCALENDAR